Package: pmm Version: 1.39.0 Command: /Library/Frameworks/R.framework/Resources/bin/R CMD INSTALL pmm StartedAt: 2025-02-09 15:07:49 -0500 (Sun, 09 Feb 2025) EndedAt: 2025-02-09 15:08:21 -0500 (Sun, 09 Feb 2025) EllapsedTime: 31.7 seconds RetCode: 0 Status: OK