Package: pmm Version: 1.39.0 Command: /home/biocbuild/bbs-3.21-bioc/R/bin/R CMD build --keep-empty-dirs --no-resave-data pmm StartedAt: 2025-02-09 18:41:22 -0500 (Sun, 09 Feb 2025) EndedAt: 2025-02-09 18:41:46 -0500 (Sun, 09 Feb 2025) EllapsedTime: 24.0 seconds RetCode: 0 Status: OK PackageFile: pmm_1.39.0.tar.gz PackageFileSize: 776.3 KiB