Package: pmm Version: 1.39.0 Command: /home/biocbuild/bbs-3.21-bioc/R/bin/R CMD check --install=check:pmm.install-out.txt --library=/home/biocbuild/bbs-3.21-bioc/R/site-library --timings pmm_1.39.0.tar.gz StartedAt: 2025-02-10 01:22:41 -0500 (Mon, 10 Feb 2025) EndedAt: 2025-02-10 01:24:22 -0500 (Mon, 10 Feb 2025) EllapsedTime: 101.1 seconds RetCode: 0 Status: OK CheckDir: pmm.Rcheck Warnings: 0