Package: pmm Version: 1.39.0 Command: rm -rf pmm.buildbin-libdir && mkdir pmm.buildbin-libdir && E:\biocbuild\bbs-3.21-bioc\R\bin\R.exe CMD INSTALL --build --library=pmm.buildbin-libdir pmm_1.39.0.tar.gz StartedAt: 2025-02-10 08:23:56 -0500 (Mon, 10 Feb 2025) EndedAt: 2025-02-10 08:24:07 -0500 (Mon, 10 Feb 2025) EllapsedTime: 11.5 seconds RetCode: 0 Status: OK PackageFile: pmm_1.39.0.zip PackageFileSize: 681.5 KiB