Package: pmm Version: 1.39.0 Command: E:\biocbuild\bbs-3.21-bioc\R\bin\R.exe CMD check --no-multiarch --install=check:pmm.install-out.txt --library=E:\biocbuild\bbs-3.21-bioc\R\library --no-vignettes --timings pmm_1.39.0.tar.gz StartedAt: 2025-02-10 04:10:00 -0500 (Mon, 10 Feb 2025) EndedAt: 2025-02-10 04:11:42 -0500 (Mon, 10 Feb 2025) EllapsedTime: 102.1 seconds RetCode: 0 Status: OK CheckDir: pmm.Rcheck Warnings: 0