Package: podkat Version: 1.39.0 Command: /Library/Frameworks/R.framework/Resources/bin/R CMD build --keep-empty-dirs --no-resave-data podkat StartedAt: 2025-02-09 17:16:15 -0500 (Sun, 09 Feb 2025) EndedAt: 2025-02-09 17:17:16 -0500 (Sun, 09 Feb 2025) EllapsedTime: 61.7 seconds RetCode: 0 Status: OK PackageFile: podkat_1.39.0.tar.gz PackageFileSize: 1.09 MiB