Package: podkat Version: 1.39.0 Command: /Library/Frameworks/R.framework/Resources/bin/R CMD check --install=check:podkat.install-out.txt --library=/Library/Frameworks/R.framework/Resources/library --no-vignettes --timings podkat_1.39.0.tar.gz StartedAt: 2025-02-09 20:42:00 -0500 (Sun, 09 Feb 2025) EndedAt: 2025-02-09 20:44:06 -0500 (Sun, 09 Feb 2025) EllapsedTime: 125.4 seconds RetCode: 0 Status: OK CheckDir: podkat.Rcheck Warnings: 0