Package: podkat Version: 1.39.0 Command: /home/biocbuild/R/R/bin/R CMD check --install=check:podkat.install-out.txt --library=/home/biocbuild/R/R/site-library --no-vignettes --timings podkat_1.39.0.tar.gz StartedAt: 2025-01-28 13:59:05 -0000 (Tue, 28 Jan 2025) EndedAt: 2025-01-28 14:05:39 -0000 (Tue, 28 Jan 2025) EllapsedTime: 394.3 seconds RetCode: 0 Status: OK CheckDir: podkat.Rcheck Warnings: 0