Package: podkat Version: 1.39.0 Command: /Library/Frameworks/R.framework/Resources/bin/R CMD build --keep-empty-dirs --no-resave-data podkat StartedAt: 2025-02-09 17:58:54 -0500 (Sun, 09 Feb 2025) EndedAt: 2025-02-09 18:01:39 -0500 (Sun, 09 Feb 2025) EllapsedTime: 164.5 seconds RetCode: 0 Status: OK PackageFile: podkat_1.39.0.tar.gz PackageFileSize: 1.09 MiB