Package: podkat Version: 1.39.0 Command: /home/biocbuild/bbs-3.21-bioc/R/bin/R CMD build --keep-empty-dirs --no-resave-data podkat StartedAt: 2025-02-09 18:41:35 -0500 (Sun, 09 Feb 2025) EndedAt: 2025-02-09 18:44:10 -0500 (Sun, 09 Feb 2025) EllapsedTime: 155.3 seconds RetCode: 0 Status: OK PackageFile: podkat_1.39.0.tar.gz PackageFileSize: 1.089 MiB