Package: podkat Version: 1.39.0 Command: /home/biocbuild/bbs-3.21-bioc/R/bin/R CMD check --install=check:podkat.install-out.txt --library=/home/biocbuild/bbs-3.21-bioc/R/site-library --timings podkat_1.39.0.tar.gz StartedAt: 2025-02-10 01:22:59 -0500 (Mon, 10 Feb 2025) EndedAt: 2025-02-10 01:29:46 -0500 (Mon, 10 Feb 2025) EllapsedTime: 407.5 seconds RetCode: 0 Status: OK CheckDir: podkat.Rcheck Warnings: 0