Package: podkat Version: 1.39.0 Command: /home/biocbuild/bbs-3.21-bioc/R/bin/R CMD INSTALL podkat StartedAt: 2025-02-09 15:28:27 -0500 (Sun, 09 Feb 2025) EndedAt: 2025-02-09 15:29:41 -0500 (Sun, 09 Feb 2025) EllapsedTime: 74.0 seconds RetCode: 0 Status: OK