Package: podkat Version: 1.39.0 Command: rm -rf podkat.buildbin-libdir && mkdir podkat.buildbin-libdir && E:\biocbuild\bbs-3.21-bioc\R\bin\R.exe CMD INSTALL --build --library=podkat.buildbin-libdir podkat_1.39.0.tar.gz StartedAt: 2025-02-10 08:24:01 -0500 (Mon, 10 Feb 2025) EndedAt: 2025-02-10 08:26:07 -0500 (Mon, 10 Feb 2025) EllapsedTime: 126.0 seconds RetCode: 0 Status: OK PackageFile: podkat_1.39.0.zip PackageFileSize: 6.886 MiB