Package: podkat Version: 1.39.0 Command: chmod a+r podkat -R && E:\biocbuild\bbs-3.21-bioc\R\bin\R.exe CMD build --keep-empty-dirs --no-resave-data podkat StartedAt: 2025-02-09 20:48:27 -0500 (Sun, 09 Feb 2025) EndedAt: 2025-02-09 20:53:08 -0500 (Sun, 09 Feb 2025) EllapsedTime: 281.3 seconds RetCode: 0 Status: OK PackageFile: podkat_1.39.0.tar.gz PackageFileSize: 1.012 MiB