Package: podkat Version: 1.39.0 Command: E:\biocbuild\bbs-3.21-bioc\R\bin\R.exe CMD INSTALL podkat StartedAt: 2025-02-09 16:37:19 -0500 (Sun, 09 Feb 2025) EndedAt: 2025-02-09 16:39:32 -0500 (Sun, 09 Feb 2025) EllapsedTime: 133.1 seconds RetCode: 0 Status: OK