Package: pogos Version: 1.27.1 Command: rm -rf pogos.buildbin-libdir && mkdir pogos.buildbin-libdir && /Users/biocbuild/BBS/utils/build-universal.sh pogos_1.27.1.tar.gz /Library/Frameworks/R.framework/Resources/bin/R pogos.buildbin-libdir StartedAt: 2025-02-12 22:30:32 -0500 (Wed, 12 Feb 2025) EndedAt: 2025-02-12 22:30:47 -0500 (Wed, 12 Feb 2025) EllapsedTime: 15.3 seconds RetCode: 0 Status: OK PackageFile: pogos_1.27.1.tgz PackageFileSize: 1.39 MiB