Package: pogos Version: 1.27.1 Command: /Library/Frameworks/R.framework/Resources/bin/R CMD INSTALL pogos StartedAt: 2025-02-09 15:17:08 -0500 (Sun, 09 Feb 2025) EndedAt: 2025-02-09 15:17:22 -0500 (Sun, 09 Feb 2025) EllapsedTime: 14.5 seconds RetCode: 0 Status: OK