Package: pogos Version: 1.27.1 Command: /home/biocbuild/R/R/bin/R CMD build --keep-empty-dirs --no-resave-data pogos StartedAt: 2025-01-29 01:19:37 -0000 (Wed, 29 Jan 2025) EndedAt: 2025-01-29 01:23:04 -0000 (Wed, 29 Jan 2025) EllapsedTime: 207.1 seconds RetCode: 0 Status: OK PackageFile: pogos_1.27.1.tar.gz PackageFileSize: 1.747 MiB