Package: pogos Version: 1.27.1 Command: /home/biocbuild/R/R/bin/R CMD check --install=check:pogos.install-out.txt --library=/home/biocbuild/R/R/site-library --no-vignettes --timings pogos_1.27.1.tar.gz StartedAt: 2025-01-28 13:59:27 -0000 (Tue, 28 Jan 2025) EndedAt: 2025-01-28 14:04:24 -0000 (Tue, 28 Jan 2025) EllapsedTime: 297.2 seconds RetCode: 0 Status: OK CheckDir: pogos.Rcheck Warnings: 0