Package: pogos Version: 1.27.1 Command: rm -rf pogos.buildbin-libdir && mkdir pogos.buildbin-libdir && /Users/biocbuild/BBS/utils/build-universal.sh pogos_1.27.1.tar.gz /Library/Frameworks/R.framework/Resources/bin/R pogos.buildbin-libdir StartedAt: 2025-02-05 00:54:47 -0500 (Wed, 05 Feb 2025) EndedAt: 2025-02-05 00:55:33 -0500 (Wed, 05 Feb 2025) EllapsedTime: 46.2 seconds RetCode: 0 Status: OK PackageFile: pogos_1.27.1.tgz PackageFileSize: 1.389 MiB