Package: pogos Version: 1.27.1 Command: /Library/Frameworks/R.framework/Resources/bin/R CMD build --keep-empty-dirs --no-resave-data pogos StartedAt: 2025-02-04 17:52:09 -0500 (Tue, 04 Feb 2025) EndedAt: 2025-02-04 17:54:38 -0500 (Tue, 04 Feb 2025) EllapsedTime: 148.4 seconds RetCode: 0 Status: OK PackageFile: pogos_1.27.1.tar.gz PackageFileSize: 2.094 MiB