Package: pogos Version: 1.27.1 Command: /Library/Frameworks/R.framework/Resources/bin/R CMD check --install=check:pogos.install-out.txt --library=/Library/Frameworks/R.framework/Resources/library --no-vignettes --timings pogos_1.27.1.tar.gz StartedAt: 2025-02-04 22:27:45 -0500 (Tue, 04 Feb 2025) EndedAt: 2025-02-04 22:31:57 -0500 (Tue, 04 Feb 2025) EllapsedTime: 252.2 seconds RetCode: 0 Status: OK CheckDir: pogos.Rcheck Warnings: 0