Package: pogos Version: 1.27.1 Command: /home/biocbuild/bbs-3.21-bioc/R/bin/R CMD build --keep-empty-dirs --no-resave-data pogos StartedAt: 2025-02-04 18:39:29 -0500 (Tue, 04 Feb 2025) EndedAt: 2025-02-04 18:41:48 -0500 (Tue, 04 Feb 2025) EllapsedTime: 138.2 seconds RetCode: 0 Status: OK PackageFile: pogos_1.27.1.tar.gz PackageFileSize: 2.03 MiB