Package: pogos Version: 1.27.1 Command: rm -rf pogos.buildbin-libdir && mkdir pogos.buildbin-libdir && E:\biocbuild\bbs-3.21-bioc\R\bin\R.exe CMD INSTALL --build --library=pogos.buildbin-libdir pogos_1.27.1.tar.gz StartedAt: 2025-02-10 08:24:02 -0500 (Mon, 10 Feb 2025) EndedAt: 2025-02-10 08:24:54 -0500 (Mon, 10 Feb 2025) EllapsedTime: 52.0 seconds RetCode: 0 Status: OK PackageFile: pogos_1.27.1.zip PackageFileSize: 873.3 KiB