Package: pogos Version: 1.27.1 Command: chmod a+r pogos -R && E:\biocbuild\bbs-3.21-bioc\R\bin\R.exe CMD build --keep-empty-dirs --no-resave-data pogos StartedAt: 2025-02-12 20:55:02 -0500 (Wed, 12 Feb 2025) EndedAt: 2025-02-12 20:57:45 -0500 (Wed, 12 Feb 2025) EllapsedTime: 163.1 seconds RetCode: 0 Status: OK PackageFile: pogos_1.27.1.tar.gz PackageFileSize: 1.553 MiB