Package: ppcseq Version: 1.15.0 Command: rm -rf ppcseq.buildbin-libdir && mkdir ppcseq.buildbin-libdir && /Users/biocbuild/BBS/utils/build-universal.sh ppcseq_1.15.0.tar.gz /Library/Frameworks/R.framework/Resources/bin/R ppcseq.buildbin-libdir StartedAt: 2025-02-03 23:01:14 -0500 (Mon, 03 Feb 2025) EndedAt: 2025-02-03 23:01:55 -0500 (Mon, 03 Feb 2025) EllapsedTime: 40.9 seconds RetCode: 0 Status: OK PackageFile: ppcseq_1.15.0.tgz PackageFileSize: 2.569 MiB