Package: ppcseq Version: 1.15.0 Command: /Library/Frameworks/R.framework/Resources/bin/R CMD build --keep-empty-dirs --no-resave-data ppcseq StartedAt: 2025-02-03 17:52:46 -0500 (Mon, 03 Feb 2025) EndedAt: 2025-02-03 17:53:25 -0500 (Mon, 03 Feb 2025) EllapsedTime: 39.4 seconds RetCode: 0 Status: OK PackageFile: ppcseq_1.15.0.tar.gz PackageFileSize: 1.939 MiB