Package: ppcseq Version: 1.15.0 Command: /Library/Frameworks/R.framework/Resources/bin/R CMD INSTALL ppcseq StartedAt: 2025-02-03 15:41:15 -0500 (Mon, 03 Feb 2025) EndedAt: 2025-02-03 15:41:54 -0500 (Mon, 03 Feb 2025) EllapsedTime: 38.2 seconds RetCode: 0 Status: OK