Package: ppcseq Version: 1.15.0 Command: /home/biocbuild/R/R/bin/R CMD INSTALL ppcseq StartedAt: 2025-01-29 19:37:31 -0000 (Wed, 29 Jan 2025) EndedAt: 2025-01-29 19:40:45 -0000 (Wed, 29 Jan 2025) EllapsedTime: 194.1 seconds RetCode: 1 Status: ERROR