Package: ppcseq Version: 1.15.0 Command: /Library/Frameworks/R.framework/Resources/bin/R CMD INSTALL ppcseq StartedAt: 2025-02-09 15:08:57 -0500 (Sun, 09 Feb 2025) EndedAt: 2025-02-09 15:11:28 -0500 (Sun, 09 Feb 2025) EllapsedTime: 151.2 seconds RetCode: 0 Status: OK