Package: ppcseq Version: 1.15.0 Command: /home/biocbuild/bbs-3.21-bioc/R/bin/R CMD build --keep-empty-dirs --no-resave-data ppcseq StartedAt: 2025-02-03 18:50:34 -0500 (Mon, 03 Feb 2025) EndedAt: 2025-02-03 19:03:29 -0500 (Mon, 03 Feb 2025) EllapsedTime: 774.9 seconds RetCode: 0 Status: OK PackageFile: ppcseq_1.15.0.tar.gz PackageFileSize: 2.038 MiB