Package: ppcseq Version: 1.15.0 Command: rm -rf ppcseq.buildbin-libdir && mkdir ppcseq.buildbin-libdir && E:\biocbuild\bbs-3.21-bioc\R\bin\R.exe CMD INSTALL --build --library=ppcseq.buildbin-libdir ppcseq_1.15.0.tar.gz StartedAt: 2025-02-10 08:24:29 -0500 (Mon, 10 Feb 2025) EndedAt: 2025-02-10 08:32:13 -0500 (Mon, 10 Feb 2025) EllapsedTime: 464.0 seconds RetCode: 0 Status: OK PackageFile: ppcseq_1.15.0.zip PackageFileSize: 2.837 MiB