Package: ppcseq Version: 1.15.0 Command: E:\biocbuild\bbs-3.21-bioc\R\bin\R.exe CMD check --no-multiarch --install=check:ppcseq.install-out.txt --library=E:\biocbuild\bbs-3.21-bioc\R\library --no-vignettes --timings ppcseq_1.15.0.tar.gz StartedAt: 2025-02-04 04:39:12 -0500 (Tue, 04 Feb 2025) EndedAt: 2025-02-04 04:41:46 -0500 (Tue, 04 Feb 2025) EllapsedTime: 153.7 seconds RetCode: 0 Status: OK CheckDir: ppcseq.Rcheck Warnings: 0