Package: pram Version: 1.23.0 Command: /Library/Frameworks/R.framework/Resources/bin/R CMD INSTALL pram StartedAt: 2025-02-09 15:08:59 -0500 (Sun, 09 Feb 2025) EndedAt: 2025-02-09 15:09:11 -0500 (Sun, 09 Feb 2025) EllapsedTime: 12.6 seconds RetCode: 0 Status: OK