Package: pram Version: 1.23.0 Command: /Library/Frameworks/R.framework/Resources/bin/R CMD check --install=check:pram.install-out.txt --library=/Library/Frameworks/R.framework/Resources/library --no-vignettes --timings pram_1.23.0.tar.gz StartedAt: 2025-02-09 22:46:15 -0500 (Sun, 09 Feb 2025) EndedAt: 2025-02-09 22:50:27 -0500 (Sun, 09 Feb 2025) EllapsedTime: 251.2 seconds RetCode: 0 Status: OK CheckDir: pram.Rcheck Warnings: 0