Package: pram Version: 1.23.0 Command: /home/biocbuild/bbs-3.21-bioc/R/bin/R CMD INSTALL pram StartedAt: 2025-02-09 15:26:09 -0500 (Sun, 09 Feb 2025) EndedAt: 2025-02-09 15:26:42 -0500 (Sun, 09 Feb 2025) EllapsedTime: 32.3 seconds RetCode: 0 Status: OK