Package: pram Version: 1.23.0 Command: rm -rf pram.buildbin-libdir && mkdir pram.buildbin-libdir && E:\biocbuild\bbs-3.21-bioc\R\bin\R.exe CMD INSTALL --build --library=pram.buildbin-libdir pram_1.23.0.tar.gz StartedAt: 2025-02-10 08:24:34 -0500 (Mon, 10 Feb 2025) EndedAt: 2025-02-10 08:25:50 -0500 (Mon, 10 Feb 2025) EllapsedTime: 76.4 seconds RetCode: 0 Status: OK PackageFile: pram_1.23.0.zip PackageFileSize: 2.501 MiB