Package: pram Version: 1.23.0 Command: chmod a+r pram -R && E:\biocbuild\bbs-3.21-bioc\R\bin\R.exe CMD build --keep-empty-dirs --no-resave-data pram StartedAt: 2025-02-09 20:51:25 -0500 (Sun, 09 Feb 2025) EndedAt: 2025-02-09 20:52:42 -0500 (Sun, 09 Feb 2025) EllapsedTime: 76.8 seconds RetCode: 0 Status: OK PackageFile: pram_1.23.0.tar.gz PackageFileSize: 2.666 MiB