Package: pram Version: 1.23.0 Command: E:\biocbuild\bbs-3.21-bioc\R\bin\R.exe CMD INSTALL pram StartedAt: 2025-02-09 16:22:00 -0500 (Sun, 09 Feb 2025) EndedAt: 2025-02-09 16:23:06 -0500 (Sun, 09 Feb 2025) EllapsedTime: 66.2 seconds RetCode: 0 Status: OK