Package: prebs Version: 1.47.0 Command: /Library/Frameworks/R.framework/Resources/bin/R CMD build --keep-empty-dirs --no-resave-data prebs StartedAt: 2025-02-03 17:52:56 -0500 (Mon, 03 Feb 2025) EndedAt: 2025-02-03 17:53:48 -0500 (Mon, 03 Feb 2025) EllapsedTime: 51.6 seconds RetCode: 0 Status: OK PackageFile: prebs_1.47.0.tar.gz PackageFileSize: 282.7 KiB