Package: prebs Version: 1.47.0 Command: /Library/Frameworks/R.framework/Resources/bin/R CMD check --install=check:prebs.install-out.txt --library=/Library/Frameworks/R.framework/Resources/library --no-vignettes --timings prebs_1.47.0.tar.gz StartedAt: 2025-02-03 21:20:07 -0500 (Mon, 03 Feb 2025) EndedAt: 2025-02-03 21:22:27 -0500 (Mon, 03 Feb 2025) EllapsedTime: 139.7 seconds RetCode: 0 Status: OK CheckDir: prebs.Rcheck Warnings: 0