Package: prebs Version: 1.47.0 Command: /Library/Frameworks/R.framework/Resources/bin/R CMD INSTALL prebs StartedAt: 2025-02-03 15:57:38 -0500 (Mon, 03 Feb 2025) EndedAt: 2025-02-03 15:57:52 -0500 (Mon, 03 Feb 2025) EllapsedTime: 13.2 seconds RetCode: 0 Status: OK