Package: prebs Version: 1.47.0 Command: /home/biocbuild/R/R/bin/R CMD build --keep-empty-dirs --no-resave-data prebs StartedAt: 2025-01-29 01:20:45 -0000 (Wed, 29 Jan 2025) EndedAt: 2025-01-29 01:23:55 -0000 (Wed, 29 Jan 2025) EllapsedTime: 190.1 seconds RetCode: 0 Status: OK PackageFile: prebs_1.47.0.tar.gz PackageFileSize: 281.3 KiB