Package: prebs Version: 1.47.0 Command: /home/biocbuild/R/R/bin/R CMD INSTALL prebs StartedAt: 2025-01-29 20:23:05 -0000 (Wed, 29 Jan 2025) EndedAt: 2025-01-29 20:23:50 -0000 (Wed, 29 Jan 2025) EllapsedTime: 45.3 seconds RetCode: 0 Status: OK