Package: prebs Version: 1.47.0 Command: rm -rf prebs.buildbin-libdir && mkdir prebs.buildbin-libdir && /Users/biocbuild/BBS/utils/build-universal.sh prebs_1.47.0.tar.gz /Library/Frameworks/R.framework/Resources/bin/R prebs.buildbin-libdir StartedAt: 2025-02-10 01:08:55 -0500 (Mon, 10 Feb 2025) EndedAt: 2025-02-10 01:09:43 -0500 (Mon, 10 Feb 2025) EllapsedTime: 48.4 seconds RetCode: 0 Status: OK PackageFile: prebs_1.47.0.tgz PackageFileSize: 412.2 KiB