Package: prebs Version: 1.47.0 Command: /Library/Frameworks/R.framework/Resources/bin/R CMD build --keep-empty-dirs --no-resave-data prebs StartedAt: 2025-02-09 17:59:44 -0500 (Sun, 09 Feb 2025) EndedAt: 2025-02-09 18:02:36 -0500 (Sun, 09 Feb 2025) EllapsedTime: 171.3 seconds RetCode: 0 Status: OK PackageFile: prebs_1.47.0.tar.gz PackageFileSize: 281.9 KiB