Package: prebs Version: 1.47.0 Command: /Library/Frameworks/R.framework/Resources/bin/R CMD check --install=check:prebs.install-out.txt --library=/Library/Frameworks/R.framework/Resources/library --no-vignettes --timings prebs_1.47.0.tar.gz StartedAt: 2025-02-03 22:31:42 -0500 (Mon, 03 Feb 2025) EndedAt: 2025-02-03 22:39:30 -0500 (Mon, 03 Feb 2025) EllapsedTime: 467.1 seconds RetCode: 0 Status: OK CheckDir: prebs.Rcheck Warnings: 0