Package: prebs Version: 1.47.0 Command: /home/biocbuild/bbs-3.21-bioc/R/bin/R CMD build --keep-empty-dirs --no-resave-data prebs StartedAt: 2025-02-03 18:51:00 -0500 (Mon, 03 Feb 2025) EndedAt: 2025-02-03 18:53:35 -0500 (Mon, 03 Feb 2025) EllapsedTime: 155.2 seconds RetCode: 0 Status: OK PackageFile: prebs_1.47.0.tar.gz PackageFileSize: 282.8 KiB