Package: prebs Version: 1.47.0 Command: /home/biocbuild/bbs-3.21-bioc/R/bin/R CMD check --install=check:prebs.install-out.txt --library=/home/biocbuild/bbs-3.21-bioc/R/site-library --timings prebs_1.47.0.tar.gz StartedAt: 2025-02-10 01:26:11 -0500 (Mon, 10 Feb 2025) EndedAt: 2025-02-10 01:35:36 -0500 (Mon, 10 Feb 2025) EllapsedTime: 564.8 seconds RetCode: 0 Status: OK CheckDir: prebs.Rcheck Warnings: 0