Package: prebs Version: 1.47.0 Command: /home/biocbuild/bbs-3.21-bioc/R/bin/R CMD INSTALL prebs StartedAt: 2025-02-03 15:34:02 -0500 (Mon, 03 Feb 2025) EndedAt: 2025-02-03 15:34:34 -0500 (Mon, 03 Feb 2025) EllapsedTime: 31.5 seconds RetCode: 0 Status: OK